BEGIN:VCALENDAR
VERSION:2.0
PRODID:-//wp-events-plugin.com//7.2.3.1//EN
TZID:Europe/Berlin
X-WR-TIMEZONE:Europe/Berlin
BEGIN:VEVENT
UID:28@voces-cantantes.de
DTSTART;TZID=Europe/Berlin:20230923T140000
DTEND;TZID=Europe/Berlin:20230924T180000
DTSTAMP:20230917T164816Z
URL:https://voces-cantantes.de/konzert/kon-takt-23-musik-trifft-malerei/
SUMMARY:KON TAKT 23 - Musik trifft Malerei. Ein Raum\, ein Klang\, ein Bild
 .
DESCRIPTION:\n\n	\n		\n			\n				\n					\n						\n							\n								Als Teil 
 der diesjährigen „Offenen Ateliers“ des Künstlerverbandes BBK Rheinl
 and-Pfalz haben sich der Mainzer Chor voces cantantes und ihr Leiter Alexa
 nder J. Süß mit dem in England lebenden Künstler Christian Mieves zusam
 mengetan\, um Raum\, Chorgesang und Malerei neu zu entdecken. Unter dem Mo
 tto „Ein Raum\, ein Klang\, ein Bild“ sind Sie eingeladen\, den Malpro
 zess eines großformatigen Bildes und die Arbeit an A-cappella-Stücken mi
 tzuerleben.\n								Das Crossoverprojekt testet Überschneidungen und Unt
 erschiede von Musik und Malerei und fragt: sind die Gestaltungsprozesse ve
 rgleichbar? Die zweitägige Begegnung beider Künste mit abschließendem W
 erkstattgottesdienst\, Konzert und Gespräch in der Evangelischen Kirche M
 ainz Weisenau bietet die Möglichkeit\, Maler und Dirigenten über die Sch
 ultern zu schauen. Der Eintritt ist frei.\n							\n						\n						\n						
 	\n								\n									weiterlesen\n								\n							\n						\n					\n				\
 n			\n		\n	\n\n\n	\n		\n			\n				\n					Programm Anreise\n				\n			\n		\n	
 \n\n\n	\n		\n			\n				\n					\n						Youtube-Inhalte aktivieren\n						\n	
 						\n								Bitte akzeptieren Sie Marketing-Cookies\, um das Video zu 
 sehen.\n								Cookie-Einstellungen\n								\n							\n						\n					\n		
 			 \n				\n				\n					Christian Mieves\n					Dozent für Malerei an der U
 niversity Newcastle upon Tyne (UK)\n					„In der Kunst siehst du jetzt s
 o viele Leute\, die nur in Gruppen arbeiten\, in Kollektiven und kollabora
 tiv. Das was ich an Musik immer so spannend finde.“\n				\n			\n			\n			
 	\n					\n						Youtube-Inhalte aktivieren\n						\n							\n								Bitte
  akzeptieren Sie Marketing-Cookies\, um das Video zu sehen.\n								Cooki
 e-Einstellungen\n								\n							\n						\n					\n					 \n				\n				\n			
 		&nbsp\;Alexander J. Süß&nbsp\;\n					Dirigent\n					„Ich beneide den
  Maler existenziell. Er erschafft aus dem Nichts.“\n				\n			\n		\n	\n\n
 \n	\n		\n			\n				\n					\n						\n							\n								Statische Töne\, flü
 chtige Malerei?Das Projekt „KON TAKT 23 – Musik trifft Malerei“ such
 t nach Überschneidungen von Musik and Malerei.\n									Es möchte aus d
 em Zusammenwirken von Ton- und Bild-Kunst Gemeinsamkeiten und Unterschiede
  zwischen der musikalischen und visuellen Gestaltung und Herangehensweise 
 herausarbeiten. Im Mittelpunkt des Projektes steht der zweitägige Austaus
 ch von Dirigent und Chorleiter Alexander J. Süß und Maler Christian Miev
 es im Kirchenraum. Maler Mieves erarbeitet mit Farben auf Leinwand ein gro
 ßformatiges Gemälde\, Dirigent Süß mit dem A-Cappella Chor voces canta
 ntes ein Konzertprogramm.\n								In Abgrenzung und Zusammenklang hinterf
 ragen beide Künstler ihre jeweilige Arbeitsweise und künstlerisches Selb
 stverständnis. Was bedeutet in der eigenen Arbeit Autorenschaft? Was Kont
 rolle und Zufall? Was Ordnung\, Zeit?\n								Lassen sich die Schaffenspr
 ozesse kopieren oder umkehren? Was unterscheidet den produzierenden von de
 m reproduzierenden Künstler?\n								Während Malerei oft als eigenstän
 dig\, an einen persönliche Stil gebunden\, isoliert hinter verschlossenen
  Türen und statisches Objekt verstanden wird\, ist Musik (und Gesang) oft
  zeitgebunden\, polyphon im öffentlichen Raum zu finden. Dem Verständnis
  künstlerischer Ausdrucksformen (vergänglich/dynamisch und statisch) mö
 chte das Projekt Raum geben und für ein Publikum erfahrbar machen.\n					
 			Wie Umberto Eco von dem Zusammenhang vom „The Open Work“ in der Mus
 ik und Malerei spricht\, möchte der Maler fragen: Kann die Malerei ebenso
  im öffentlichen Raum zeitgleich miterlebt werden\, sozusagen vielstimmig
 \, vor den Augen der Betrachter entstehen und vergehen? Und inwieweit arbe
 itet Musik mit statischen\, eigenständigen Elementen?\n								Mit Blick 
 auf die Offenheit des Malprozesses vergleicht der Musiker seine Kunst: Wie
  dehnbar ist der Gestaltungsrahmen eines Interpreten\, der die einkomponie
 rte (göttliche) Ordnung und Symbolik von Musikwerken vergangener Jahrhund
 erte ins heute transponiert? Der das Ziel des Komponisten und dessen metat
 extlichen Ideen und Inhalte für ein heutiges Publikum übersetzt? Dessen 
 Arbeitsmaterial aus der menschlichen Stimme besteht\, die ihrerseits ihre 
 eigene Persönlichkeit und Betrachtungsweise mit sich bringt?\n								Der
  Werkstattcharakter dieses Crossovers zwischen Musik und Malerei möchte a
 uffordern\, den Schaffensprozess mitzuverfolgen und an Fragestellungen per
 sönlich teilzuhaben.\n								Thematische Klammer bildet das „pater nos
 ter“\, das „Vater Unser“ und dessen Vertonungen aus mehreren Jahrhun
 derten. Als weit verbreitetstes Gebet des christlichen Kulturraums wird es
  oft als Stütze und strukturierendes Element verstanden. Es verbindet Wel
 tliches/Statisches mit dem Vergänglichen/Flüchtigen. Formal bescheiden\,
  bringt es ein menschliches Bedürfnis auf den Punkt\, eine Quelle künstl
 erischer Schaffenskraft: Den Wunsch\, gesehen\, gehört\, erhört zu werde
 n.\n								Eine gemeinsame Werkschau – das entstandene Gemälde\, sowie
  das Abschlusskonzert\, eingebunden in einen Werkstattgottesdienst – ste
 ht am Ende des Schaffensprozesses. Den Schlusspunkt des Projektes setzt da
 s Fazit der beiden Künstler\, das sie in einem moderierten Gespräch disk
 utieren werden. Den geistlichen Impuls setzt Britta Busch\, die Pfarrerin 
 der Evangelischen Kirchengemeinde Mainz-Weisenau. Das Künstlergespräch w
 ird moderiert von der Journalistin und Galeristin Astrid Bierschenk\, SWR.
 \n							\n						\n						\n							\n								\n									weiterlesen\n						
 		\n							\n						\n					\n				\n			\n		\n	\n\n\n	\n		\n			\n				\n					\
 n						Programm\n					\n				\n				\n					\n						Samstag 23 September\n			
 			Liveact Malerei\, Christian Mieves und TeamÖffentliche Chorprobe\, Ale
 xander J. Süß/voces cantantes14:00 bis 18:00 Uhr \n						Sonntag 24 Sept
 ember\n						Liveact Malerei\, Christian Mieves und TeamÖffentliche Chorp
 robe\, Alexander J. Süß/voces cantantes14:00 bis 16:30 Uhr\, danach gese
 lliger Austausch im Kirchhof\n						18:00 Uhr Werkstattgottesdienst mit Ve
 rnissage und A-cappella-Konzert\, abschließend Künstlergespräch A. J. S
 üß/ C. Mieves moderier von Astrid Bierschenk\n					\n				\n			\n		\n	\n\
 n\n	\n		\n			\n				\n					\n						Anreise\n					\n				\n				\n					\n					
 	Da vor Ort wenig bis keine Parkplätze vorhanden sind empfehlen wir\, den
  ÖPNV zu benutzen. Die Linie 62 Richtung Mainz-Weisenau nehmen und an der
  Haltestelle Schillerschule aussteigen. Von dort aus sind es 3 Gehminuten 
 bis zur Evangelischen Weisenau.\n						Die nächstgelegenen öffentlichen 
 Parkplätze finden Sie am Volkspark\, Göttelmannstraße 33. Von dort aus 
 sind es 15 Gehminuten bis zur Evangelischen Kirche Weisenau.\n					\n				\
 n			\n		\n	\n\n\n	\n		\n			\n				\n					\n						Unterstützung\n					\n			
 	\n				\n					\n						Der Verein voces canantes e.V. finanziert sich aussc
 hließlich über Spenden und Eintrittsgelder und braucht Ihre Unterstützu
 ng! Hier können Sie spenden.\n						Spenden\n					\n				\n				\n					\n		
 				Das Crossoverprojekt KON TAKT 23 – Musik trifft Malerei wird außerd
 em unterstützt von:\n					\n				\n			\n		\n		\n			\n				\n					\n				\n		
 	\n			\n				\n					\n				\n			\n			\n				\n					\n				\n			\n			\n				\n		
 			\n				\n			\n			\n				\n					\n				\n			\n			\n				\n					\n				\n			\n
 			\n				\n					\n				\n			\n		\n	\n\n
ATTACH;FMTTYPE=image/jpeg:https://voces-cantantes.de/wp-content/uploads/20
 23/07/KONTAKT_Foto_4_web_neu_s-scaled.jpg
LOCATION:Evangelische Kirche Weisenau\, Hopfengartenstraße 22\, Mainz\, Rh
 einland-Pfalz\, 55130\, Deutschland
X-APPLE-STRUCTURED-LOCATION;VALUE=URI;X-ADDRESS=Hopfengartenstraße 22\, Ma
 inz\, Rheinland-Pfalz\, 55130\, Deutschland;X-APPLE-RADIUS=100;X-TITLE=Eva
 ngelische Kirche Weisenau:geo:0,0
END:VEVENT
BEGIN:VTIMEZONE
TZID:Europe/Berlin
X-LIC-LOCATION:Europe/Berlin
BEGIN:DAYLIGHT
DTSTART:20230326T030000
TZOFFSETFROM:+0100
TZOFFSETTO:+0200
TZNAME:CEST
END:DAYLIGHT
END:VTIMEZONE
END:VCALENDAR